Workbook

Sheet Vertical
A1: Prénom | B1: Nom | C1: Age | D1: Service | F1: Marc | G1: Age | H1: Service | J1: Prénom | L1: Nom
A2: Marc | B2: HASSIN | C2: 50 | D2: Production | F2: HASSIN | G2: {=INDEX(C:C,MATCH(1,($A:$A=$F$1)*($B:$B=$F$2),0),1)} -> 50 | H2: {=INDEX(D:D,MATCH(1,($A:$A=$F$1)*($B:$B=$F$2),0),1)} -> Production | J2: Marc
A3: Alain | B3: TERRIEUR | C3: 39 | D3: Finance | J3: Alain
A4: Marc | B4: HOPOLO | C4: 38 | D4: Voyage | J4: Jonas
A5: Jonas | B5: TICOT | C5: 62 | D5: Recherche | J5: Agathe
A6: Agathe | B6: GUETTENEAU | C6: 27 | D6: Culture | J6: Pierre
A7: Pierre | B7: QUIROUL | C7: 48 | D7: Production | J7: Alex
A8: Agathe | B8: ZEUBLOUZE | C8: 52 | D8: Voyage
A9: Jonas | B9: HASSIN | C9: 45 | D9: Finance
A10: Alex | B10: TERRIEUR | C10: 28 | D10: Voyage
A11: Marc | B11: ASSITHE | C11: 49 | D11: Recherche
A12: Marc | B12: HAVIEL | C12: 46 | D12: Production
A13: Alain | B13: TERMAIDE | C13: 62 | D13: Voyage

Sheet Horizontal
A1: Prénom | B1: Marc | C1: Alain | D1: Marc | E1: Jonas | F1: Agathe | G1: Pierre | H1: Agathe | I1: Jonas | J1: Alex | K1: Marc | L1: Marc | M1: Alain
A2: Nom | B2: HASSIN | C2: TERRIEUR | D2: HOPOLO | E2: TICOT | F2: GUETTENEAU | G2: QUIROUL | H2: ZEUBLOUZE | I2: HASSIN | J2: TERRIEUR | K2: ASSITHE | L2: HAVIEL | M2: TERMAIDE
A3: Age | B3: 50 | C3: 39 | D3: 38 | E3: 62 | F3: 27 | G3: 48 | H3: 52 | I3: 45 | J3: 28 | K3: 49 | L3: 46 | M3: 62
A4: Service | B4: Production | C4: Finance | D4: Voyage | E4: Recherche | F4: Culture | G4: Production | H4: Voyage | I4: Finance | J4: Voyage | K4: Recherche | L4: Production | M4: Voyage
A11: Prénom : | B11: Marc
B14: Nom :

Sheet Récap
C2: Références | K2: Liste références OK
C3: Ref n°1 | D3: Ref n°2 | E3: Ref n°3 | F3: Ref n°4 | G3: Ref n°5 | H3: Ref n°6 | I3: Ref n°7 | J3: Ref n°8
B4: Client 1 | C4: OK | E4: OK | F4: OK | J4: HS | N4: =IFERROR(INDEX($C$3:$J$3,1,[1]Repère!N4),"") | O4: =IFERROR(INDEX($C$3:$J$3,1,[1]Repère!O4),"") | P4: =IFERROR(INDEX($C$3:$J$3,1,[1]Repère!P4),"") | Q4: =IFERROR(INDEX($C$3:$J$3,1,[1]Repère!Q4),"") | R4: =IFERROR(INDEX($C$3:$J$3,1,[1]Repère!R4),"")
B5: Client 2 | D5: OK | G5: OK | N5: =IFERROR(INDEX($C$3:$J$3,1,[1]Repère!N5),"") | O5: =IFERROR(INDEX($C$3:$J$3,1,[1]Repère!O5),"") | P5: =IFERROR(INDEX($C$3:$J$3,1,[1]Repère!P5),"") | Q5: =IFERROR(INDEX($C$3:$J$3,1,[1]Repère!Q5),"") | R5: =IFERROR(INDEX($C$3:$J$3,1,[1]Repère!R5),"")
B6: Client 3 | E6: HS | I6: OK | N6: =IFERROR(INDEX($C$3:$J$3,1,[1]Repère!N6),"") | O6: =IFERROR(INDEX($C$3:$J$3,1,[1]Repère!O6),"") | P6: =IFERROR(INDEX($C$3:$J$3,1,[1]Repère!P6),"") | Q6: =IFERROR(INDEX($C$3:$J$3,1,[1]Repère!Q6),"") | R6: =IFERROR(INDEX($C$3:$J$3,1,[1]Repère!R6),"")
B7: Client 4 | C7: HS | E7: OK | N7: =IFERROR(INDEX($C$3:$J$3,1,[1]Repère!N7),"") | O7: =IFERROR(INDEX($C$3:$J$3,1,[1]Repère!O7),"") | P7: =IFERROR(INDEX($C$3:$J$3,1,[1]Repère!P7),"") | Q7: =IFERROR(INDEX($C$3:$J$3,1,[1]Repère!Q7),"") | R7: =IFERROR(INDEX($C$3:$J$3,1,[1]Repère!R7),"")
B8: Client 5 | C8: OK | G8: OK | H8: HS | N8: =IFERROR(INDEX($C$3:$J$3,1,[1]Repère!N8),"") | O8: =IFERROR(INDEX($C$3:$J$3,1,[1]Repère!O8),"") | P8: =IFERROR(INDEX($C$3:$J$3,1,[1]Repère!P8),"") | Q8: =IFERROR(INDEX($C$3:$J$3,1,[1]Repère!Q8),"") | R8: =IFERROR(INDEX($C$3:$J$3,1,[1]Repère!R8),"")
B9: Client 6 | C9: OK | D9: OK | E9: OK | F9: HS | N9: =IFERROR(INDEX($C$3:$J$3,1,[1]Repère!N9),"") | O9: =IFERROR(INDEX($C$3:$J$3,1,[1]Repère!O9),"") | P9: =IFERROR(INDEX($C$3:$J$3,1,[1]Repère!P9),"") | Q9: =IFERROR(INDEX($C$3:$J$3,1,[1]Repère!Q9),"") | R9: =IFERROR(INDEX($C$3:$J$3,1,[1]Repère!R9),"")
B10: Client 7 | J10: HS | N10: =IFERROR(INDEX($C$3:$J$3,1,[1]Repère!N10),"") | O10: =IFERROR(INDEX($C$3:$J$3,1,[1]Repère!O10),"") | P10: =IFERROR(INDEX($C$3:$J$3,1,[1]Repère!P10),"") | Q10: =IFERROR(INDEX($C$3:$J$3,1,[1]Repère!Q10),"") | R10: =IFERROR(INDEX($C$3:$J$3,1,[1]Repère!R10),"")
B11: Client 8 | C11: OK | D11: HS | H11: HS | N11: =IFERROR(INDEX($C$3:$J$3,1,[1]Repère!N11),"") | O11: =IFERROR(INDEX($C$3:$J$3,1,[1]Repère!O11),"") | P11: =IFERROR(INDEX($C$3:$J$3,1,[1]Repère!P11),"") | Q11: =IFERROR(INDEX($C$3:$J$3,1,[1]Repère!Q11),"") | R11: =IFERROR(INDEX($C$3:$J$3,1,[1]Repère!R11),"")
B12: Client 9 | E12: OK | N12: =IFERROR(INDEX($C$3:$J$3,1,[1]Repère!N12),"") | O12: =IFERROR(INDEX($C$3:$J$3,1,[1]Repère!O12),"") | P12: =IFERROR(INDEX($C$3:$J$3,1,[1]Repère!P12),"") | Q12: =IFERROR(INDEX($C$3:$J$3,1,[1]Repère!Q12),"") | R12: =IFERROR(INDEX($C$3:$J$3,1,[1]Repère!R12),"")
