Workbook

Sheet Vertical
A1: Prénom | B1: Nom | C1: Age | D1: Service | F1: Marc | G1: Age | H1: Service | J1: Prénom | L1: Nom
A2: Marc | B2: HASSIN | C2: 50 | D2: Production | F2: HASSIN | G2: {=INDEX(C:C,MATCH(1,($A:$A=$F$1)*($B:$B=$F$2),0),1)} -> 50 | H2: {=INDEX(D:D,MATCH(1,($A:$A=$F$1)*($B:$B=$F$2),0),1)} -> Production | J2: Marc | L2: =IFERROR(INDEX(B:B,M2,1),"") -> HASSIN | M2: =IFERROR(MATCH($F$1,OFFSET($A$1,M1,0,COUNTA(A:A)-M1,1),0)+M1,"") -> 2
A3: Alain | B3: TERRIEUR | C3: 39 | D3: Finance | J3: Alain | L3: =IFERROR(INDEX(B:B,M3,1),"") -> HOPOLO | M3: =IFERROR(MATCH($F$1,OFFSET($A$1,M2,0,COUNTA(A:A)-M2,1),0)+M2,"") -> 4
A4: Marc | B4: HOPOLO | C4: 38 | D4: Voyage | J4: Jonas | L4: =IFERROR(INDEX(B:B,M4,1),"") -> ASSITHE | M4: =IFERROR(MATCH($F$1,OFFSET($A$1,M3,0,COUNTA(A:A)-M3,1),0)+M3,"") -> 11
A5: Jonas | B5: TICOT | C5: 62 | D5: Recherche | J5: Agathe | L5: =IFERROR(INDEX(B:B,M5,1),"") -> HAVIEL | M5: =IFERROR(MATCH($F$1,OFFSET($A$1,M4,0,COUNTA(A:A)-M4,1),0)+M4,"") -> 12
A6: Agathe | B6: GUETTENEAU | C6: 27 | D6: Culture | J6: Pierre | L6: =IFERROR(INDEX(B:B,M6,1),"") | M6: =IFERROR(MATCH($F$1,OFFSET($A$1,M5,0,COUNTA(A:A)-M5,1),0)+M5,"")
A7: Pierre | B7: QUIROUL | C7: 48 | D7: Production | J7: Alex | L7: =IFERROR(INDEX(B:B,M7,1),"") | M7: =IFERROR(MATCH($F$1,OFFSET($A$1,M6,0,COUNTA(A:A)-M6,1),0)+M6,"")
A8: Agathe | B8: ZEUBLOUZE | C8: 52 | D8: Voyage | L8: =IFERROR(INDEX(B:B,M8,1),"") | M8: =IFERROR(MATCH($F$1,OFFSET($A$1,M7,0,COUNTA(A:A)-M7,1),0)+M7,"")
A9: Jonas | B9: HASSIN | C9: 45 | D9: Finance | L9: =IFERROR(INDEX(B:B,M9,1),"") | M9: =IFERROR(MATCH($F$1,OFFSET($A$1,M8,0,COUNTA(A:A)-M8,1),0)+M8,"")
A10: Alex | B10: TERRIEUR | C10: 28 | D10: Voyage | L10: =IFERROR(INDEX(B:B,M10,1),"") | M10: =IFERROR(MATCH($F$1,OFFSET($A$1,M9,0,COUNTA(A:A)-M9,1),0)+M9,"")
A11: Marc | B11: ASSITHE | C11: 49 | D11: Recherche | L11: =IFERROR(INDEX(B:B,M11,1),"") | M11: =IFERROR(MATCH($F$1,OFFSET($A$1,M10,0,COUNTA(A:A)-M10,1),0)+M10,"")
A12: Marc | B12: HAVIEL | C12: 46 | D12: Production | L12: =IFERROR(INDEX(B:B,M12,1),"") | M12: =IFERROR(MATCH($F$1,OFFSET($A$1,M11,0,COUNTA(A:A)-M11,1),0)+M11,"")
A13: Alain | B13: TERMAIDE | C13: 62 | D13: Voyage | L13: =IFERROR(INDEX(B:B,M13,1),"") | M13: =IFERROR(MATCH($F$1,OFFSET($A$1,M12,0,COUNTA(A:A)-M12,1),0)+M12,"")
L14: =IFERROR(INDEX(B:B,M14,1),"") | M14: =IFERROR(MATCH($F$1,OFFSET($A$1,M13,0,COUNTA(A:A)-M13,1),0)+M13,"")
L15: =IFERROR(INDEX(B:B,M15,1),"") | M15: =IFERROR(MATCH($F$1,OFFSET($A$1,M14,0,COUNTA(A:A)-M14,1),0)+M14,"")

Sheet Horizontal
A1: Prénom | B1: Marc | C1: Alain | D1: Marc | E1: Jonas | F1: Agathe | G1: Pierre | H1: Agathe | I1: Jonas | J1: Alex | K1: Marc | L1: Marc | M1: Alain
A2: Nom | B2: HASSIN | C2: TERRIEUR | D2: HOPOLO | E2: TICOT | F2: GUETTENEAU | G2: QUIROUL | H2: ZEUBLOUZE | I2: HASSIN | J2: TERRIEUR | K2: ASSITHE | L2: HAVIEL | M2: TERMAIDE
A3: Age | B3: 50 | C3: 39 | D3: 38 | E3: 62 | F3: 27 | G3: 48 | H3: 52 | I3: 45 | J3: 28 | K3: 49 | L3: 46 | M3: 62
A4: Service | B4: Production | C4: Finance | D4: Voyage | E4: Recherche | F4: Culture | G4: Production | H4: Voyage | I4: Finance | J4: Voyage | K4: Recherche | L4: Production | M4: Voyage
A11: Prénom : | B11: Marc
B14: Nom :
A15: =IFERROR(MATCH($B$11,OFFSET($A$1,0,A14,1,COUNTA($1:$1)-A14),0)+A14,"") -> 2 | B15: =IFERROR(INDEX($2:$2,1,A15),"") -> HASSIN
A16: =IFERROR(MATCH($B$11,OFFSET($A$1,0,A15,1,COUNTA($1:$1)-A15),0)+A15,"") -> 4 | B16: =IFERROR(INDEX($2:$2,1,A16),"") -> HOPOLO
A17: =IFERROR(MATCH($B$11,OFFSET($A$1,0,A16,1,COUNTA($1:$1)-A16),0)+A16,"") -> 11 | B17: =IFERROR(INDEX($2:$2,1,A17),"") -> ASSITHE
A18: =IFERROR(MATCH($B$11,OFFSET($A$1,0,A17,1,COUNTA($1:$1)-A17),0)+A17,"") -> 12 | B18: =IFERROR(INDEX($2:$2,1,A18),"") -> HAVIEL
A19: =IFERROR(MATCH($B$11,OFFSET($A$1,0,A18,1,COUNTA($1:$1)-A18),0)+A18,"") | B19: =IFERROR(INDEX($2:$2,1,A19),"")
A20: =IFERROR(MATCH($B$11,OFFSET($A$1,0,A19,1,COUNTA($1:$1)-A19),0)+A19,"") | B20: =IFERROR(INDEX($2:$2,1,A20),"")
A21: =IFERROR(MATCH($B$11,OFFSET($A$1,0,A20,1,COUNTA($1:$1)-A20),0)+A20,"") | B21: =IFERROR(INDEX($2:$2,1,A21),"")
A22: =IFERROR(MATCH($B$11,OFFSET($A$1,0,A21,1,COUNTA($1:$1)-A21),0)+A21,"") | B22: =IFERROR(INDEX($2:$2,1,A22),"")
A23: =IFERROR(MATCH($B$11,OFFSET($A$1,0,A22,1,COUNTA($1:$1)-A22),0)+A22,"") | B23: =IFERROR(INDEX($2:$2,1,A23),"")
A24: =IFERROR(MATCH($B$11,OFFSET($A$1,0,A23,1,COUNTA($1:$1)-A23),0)+A23,"") | B24: =IFERROR(INDEX($2:$2,1,A24),"")

Sheet Récap
C2: Références | K2: Liste références OK
C3: Ref n°1 | D3: Ref n°2 | E3: Ref n°3 | F3: Ref n°4 | G3: Ref n°5 | H3: Ref n°6 | I3: Ref n°7 | J3: Ref n°8
B4: Client 1 | C4: OK | E4: OK | F4: OK | J4: HS | K4: =IFERROR(INDEX($C$3:$J$3,1,Repère!K4),"") -> Ref n°1 | L4: =IFERROR(INDEX($C$3:$J$3,1,Repère!L4),"") -> Ref n°3 | M4: =IFERROR(INDEX($C$3:$J$3,1,Repère!M4),"") -> Ref n°4 | N4: =IFERROR(INDEX($C$3:$J$3,1,Repère!N4),"") | O4: =IFERROR(INDEX($C$3:$J$3,1,Repère!O4),"") | P4: =IFERROR(INDEX($C$3:$J$3,1,Repère!P4),"") | Q4: =IFERROR(INDEX($C$3:$J$3,1,Repère!Q4),"") | R4: =IFERROR(INDEX($C$3:$J$3,1,Repère!R4),"")
B5: Client 2 | D5: OK | G5: OK | K5: =IFERROR(INDEX($C$3:$J$3,1,Repère!K5),"") -> Ref n°2 | L5: =IFERROR(INDEX($C$3:$J$3,1,Repère!L5),"") -> Ref n°5 | M5: =IFERROR(INDEX($C$3:$J$3,1,Repère!M5),"") | N5: =IFERROR(INDEX($C$3:$J$3,1,Repère!N5),"") | O5: =IFERROR(INDEX($C$3:$J$3,1,Repère!O5),"") | P5: =IFERROR(INDEX($C$3:$J$3,1,Repère!P5),"") | Q5: =IFERROR(INDEX($C$3:$J$3,1,Repère!Q5),"") | R5: =IFERROR(INDEX($C$3:$J$3,1,Repère!R5),"")
B6: Client 3 | E6: HS | I6: OK | K6: =IFERROR(INDEX($C$3:$J$3,1,Repère!K6),"") -> Ref n°7 | L6: =IFERROR(INDEX($C$3:$J$3,1,Repère!L6),"") | M6: =IFERROR(INDEX($C$3:$J$3,1,Repère!M6),"") | N6: =IFERROR(INDEX($C$3:$J$3,1,Repère!N6),"") | O6: =IFERROR(INDEX($C$3:$J$3,1,Repère!O6),"") | P6: =IFERROR(INDEX($C$3:$J$3,1,Repère!P6),"") | Q6: =IFERROR(INDEX($C$3:$J$3,1,Repère!Q6),"") | R6: =IFERROR(INDEX($C$3:$J$3,1,Repère!R6),"")
B7: Client 4 | C7: HS | E7: OK | K7: =IFERROR(INDEX($C$3:$J$3,1,Repère!K7),"") -> Ref n°3 | L7: =IFERROR(INDEX($C$3:$J$3,1,Repère!L7),"") | M7: =IFERROR(INDEX($C$3:$J$3,1,Repère!M7),"") | N7: =IFERROR(INDEX($C$3:$J$3,1,Repère!N7),"") | O7: =IFERROR(INDEX($C$3:$J$3,1,Repère!O7),"") | P7: =IFERROR(INDEX($C$3:$J$3,1,Repère!P7),"") | Q7: =IFERROR(INDEX($C$3:$J$3,1,Repère!Q7),"") | R7: =IFERROR(INDEX($C$3:$J$3,1,Repère!R7),"")
B8: Client 5 | C8: OK | G8: OK | H8: HS | K8: =IFERROR(INDEX($C$3:$J$3,1,Repère!K8),"") -> Ref n°1 | L8: =IFERROR(INDEX($C$3:$J$3,1,Repère!L8),"") -> Ref n°5 | M8: =IFERROR(INDEX($C$3:$J$3,1,Repère!M8),"") | N8: =IFERROR(INDEX($C$3:$J$3,1,Repère!N8),"") | O8: =IFERROR(INDEX($C$3:$J$3,1,Repère!O8),"") | P8: =IFERROR(INDEX($C$3:$J$3,1,Repère!P8),"") | Q8: =IFERROR(INDEX($C$3:$J$3,1,Repère!Q8),"") | R8: =IFERROR(INDEX($C$3:$J$3,1,Repère!R8),"")
B9: Client 6 | C9: OK | D9: OK | E9: OK | F9: HS | K9: =IFERROR(INDEX($C$3:$J$3,1,Repère!K9),"") -> Ref n°1 | L9: =IFERROR(INDEX($C$3:$J$3,1,Repère!L9),"") -> Ref n°2 | M9: =IFERROR(INDEX($C$3:$J$3,1,Repère!M9),"") -> Ref n°3 | N9: =IFERROR(INDEX($C$3:$J$3,1,Repère!N9),"") | O9: =IFERROR(INDEX($C$3:$J$3,1,Repère!O9),"") | P9: =IFERROR(INDEX($C$3:$J$3,1,Repère!P9),"") | Q9: =IFERROR(INDEX($C$3:$J$3,1,Repère!Q9),"") | R9: =IFERROR(INDEX($C$3:$J$3,1,Repère!R9),"")
B10: Client 7 | J10: HS | K10: =IFERROR(INDEX($C$3:$J$3,1,Repère!K10),"") | L10: =IFERROR(INDEX($C$3:$J$3,1,Repère!L10),"") | M10: =IFERROR(INDEX($C$3:$J$3,1,Repère!M10),"") | N10: =IFERROR(INDEX($C$3:$J$3,1,Repère!N10),"") | O10: =IFERROR(INDEX($C$3:$J$3,1,Repère!O10),"") | P10: =IFERROR(INDEX($C$3:$J$3,1,Repère!P10),"") | Q10: =IFERROR(INDEX($C$3:$J$3,1,Repère!Q10),"") | R10: =IFERROR(INDEX($C$3:$J$3,1,Repère!R10),"")
B11: Client 8 | C11: OK | D11: HS | H11: HS | K11: =IFERROR(INDEX($C$3:$J$3,1,Repère!K11),"") -> Ref n°1 | L11: =IFERROR(INDEX($C$3:$J$3,1,Repère!L11),"") | M11: =IFERROR(INDEX($C$3:$J$3,1,Repère!M11),"") | N11: =IFERROR(INDEX($C$3:$J$3,1,Repère!N11),"") | O11: =IFERROR(INDEX($C$3:$J$3,1,Repère!O11),"") | P11: =IFERROR(INDEX($C$3:$J$3,1,Repère!P11),"") | Q11: =IFERROR(INDEX($C$3:$J$3,1,Repère!Q11),"") | R11: =IFERROR(INDEX($C$3:$J$3,1,Repère!R11),"")
B12: Client 9 | E12: OK | K12: =IFERROR(INDEX($C$3:$J$3,1,Repère!K12),"") -> Ref n°3 | L12: =IFERROR(INDEX($C$3:$J$3,1,Repère!L12),"") | M12: =IFERROR(INDEX($C$3:$J$3,1,Repère!M12),"") | N12: =IFERROR(INDEX($C$3:$J$3,1,Repère!N12),"") | O12: =IFERROR(INDEX($C$3:$J$3,1,Repère!O12),"") | P12: =IFERROR(INDEX($C$3:$J$3,1,Repère!P12),"") | Q12: =IFERROR(INDEX($C$3:$J$3,1,Repère!Q12),"") | R12: =IFERROR(INDEX($C$3:$J$3,1,Repère!R12),"")

Sheet Repère
K4: =IFERROR(MATCH("OK",OFFSET(Récap!$C4,0,J4,1,COUNTA(Récap!$C$3:$J$3)-J4),0)+J4,"") -> 1 | L4: =IFERROR(MATCH("OK",OFFSET(Récap!$C4,0,K4,1,COUNTA(Récap!$C$3:$J$3)-K4),0)+K4,"") -> 3 | M4: =IFERROR(MATCH("OK",OFFSET(Récap!$C4,0,L4,1,COUNTA(Récap!$C$3:$J$3)-L4),0)+L4,"") -> 4 | N4: =IFERROR(MATCH("OK",OFFSET(Récap!$C4,0,M4,1,COUNTA(Récap!$C$3:$J$3)-M4),0)+M4,"") | O4: =IFERROR(MATCH("OK",OFFSET(Récap!$C4,0,N4,1,COUNTA(Récap!$C$3:$J$3)-N4),0)+N4,"") | P4: =IFERROR(MATCH("OK",OFFSET(Récap!$C4,0,O4,1,COUNTA(Récap!$C$3:$J$3)-O4),0)+O4,"") | Q4: =IFERROR(MATCH("OK",OFFSET(Récap!$C4,0,P4,1,COUNTA(Récap!$C$3:$J$3)-P4),0)+P4,"") | R4: =IFERROR(MATCH("OK",OFFSET(Récap!$C4,0,Q4,1,COUNTA(Récap!$C$3:$J$3)-Q4),0)+Q4,"") | ... Z4: =IFERROR(MATCH("OK",OFFSET(Récap!$C4,0,Y4,1,COUNTA(Récap!$C$3:$J$3)-Y4),0)+Y4,"")
K5: =IFERROR(MATCH("OK",OFFSET(Récap!$C5,0,J5,1,COUNTA(Récap!$C$3:$J$3)-J5),0)+J5,"") -> 2 | L5: =IFERROR(MATCH("OK",OFFSET(Récap!$C5,0,K5,1,COUNTA(Récap!$C$3:$J$3)-K5),0)+K5,"") -> 5 | M5: =IFERROR(MATCH("OK",OFFSET(Récap!$C5,0,L5,1,COUNTA(Récap!$C$3:$J$3)-L5),0)+L5,"") | N5: =IFERROR(MATCH("OK",OFFSET(Récap!$C5,0,M5,1,COUNTA(Récap!$C$3:$J$3)-M5),0)+M5,"") | O5: =IFERROR(MATCH("OK",OFFSET(Récap!$C5,0,N5,1,COUNTA(Récap!$C$3:$J$3)-N5),0)+N5,"") | P5: =IFERROR(MATCH("OK",OFFSET(Récap!$C5,0,O5,1,COUNTA(Récap!$C$3:$J$3)-O5),0)+O5,"") | Q5: =IFERROR(MATCH("OK",OFFSET(Récap!$C5,0,P5,1,COUNTA(Récap!$C$3:$J$3)-P5),0)+P5,"") | R5: =IFERROR(MATCH("OK",OFFSET(Récap!$C5,0,Q5,1,COUNTA(Récap!$C$3:$J$3)-Q5),0)+Q5,"") | ... Z5: =IFERROR(MATCH("OK",OFFSET(Récap!$C5,0,Y5,1,COUNTA(Récap!$C$3:$J$3)-Y5),0)+Y5,"")
K6: =IFERROR(MATCH("OK",OFFSET(Récap!$C6,0,J6,1,COUNTA(Récap!$C$3:$J$3)-J6),0)+J6,"") -> 7 | L6: =IFERROR(MATCH("OK",OFFSET(Récap!$C6,0,K6,1,COUNTA(Récap!$C$3:$J$3)-K6),0)+K6,"") | M6: =IFERROR(MATCH("OK",OFFSET(Récap!$C6,0,L6,1,COUNTA(Récap!$C$3:$J$3)-L6),0)+L6,"") | N6: =IFERROR(MATCH("OK",OFFSET(Récap!$C6,0,M6,1,COUNTA(Récap!$C$3:$J$3)-M6),0)+M6,"") | O6: =IFERROR(MATCH("OK",OFFSET(Récap!$C6,0,N6,1,COUNTA(Récap!$C$3:$J$3)-N6),0)+N6,"") | P6: =IFERROR(MATCH("OK",OFFSET(Récap!$C6,0,O6,1,COUNTA(Récap!$C$3:$J$3)-O6),0)+O6,"") | Q6: =IFERROR(MATCH("OK",OFFSET(Récap!$C6,0,P6,1,COUNTA(Récap!$C$3:$J$3)-P6),0)+P6,"") | R6: =IFERROR(MATCH("OK",OFFSET(Récap!$C6,0,Q6,1,COUNTA(Récap!$C$3:$J$3)-Q6),0)+Q6,"") | ... Z6: =IFERROR(MATCH("OK",OFFSET(Récap!$C6,0,Y6,1,COUNTA(Récap!$C$3:$J$3)-Y6),0)+Y6,"")
K7: =IFERROR(MATCH("OK",OFFSET(Récap!$C7,0,J7,1,COUNTA(Récap!$C$3:$J$3)-J7),0)+J7,"") -> 3 | L7: =IFERROR(MATCH("OK",OFFSET(Récap!$C7,0,K7,1,COUNTA(Récap!$C$3:$J$3)-K7),0)+K7,"") | M7: =IFERROR(MATCH("OK",OFFSET(Récap!$C7,0,L7,1,COUNTA(Récap!$C$3:$J$3)-L7),0)+L7,"") | N7: =IFERROR(MATCH("OK",OFFSET(Récap!$C7,0,M7,1,COUNTA(Récap!$C$3:$J$3)-M7),0)+M7,"") | O7: =IFERROR(MATCH("OK",OFFSET(Récap!$C7,0,N7,1,COUNTA(Récap!$C$3:$J$3)-N7),0)+N7,"") | P7: =IFERROR(MATCH("OK",OFFSET(Récap!$C7,0,O7,1,COUNTA(Récap!$C$3:$J$3)-O7),0)+O7,"") | Q7: =IFERROR(MATCH("OK",OFFSET(Récap!$C7,0,P7,1,COUNTA(Récap!$C$3:$J$3)-P7),0)+P7,"") | R7: =IFERROR(MATCH("OK",OFFSET(Récap!$C7,0,Q7,1,COUNTA(Récap!$C$3:$J$3)-Q7),0)+Q7,"") | ... Z7: =IFERROR(MATCH("OK",OFFSET(Récap!$C7,0,Y7,1,COUNTA(Récap!$C$3:$J$3)-Y7),0)+Y7,"")
K8: =IFERROR(MATCH("OK",OFFSET(Récap!$C8,0,J8,1,COUNTA(Récap!$C$3:$J$3)-J8),0)+J8,"") -> 1 | L8: =IFERROR(MATCH("OK",OFFSET(Récap!$C8,0,K8,1,COUNTA(Récap!$C$3:$J$3)-K8),0)+K8,"") -> 5 | M8: =IFERROR(MATCH("OK",OFFSET(Récap!$C8,0,L8,1,COUNTA(Récap!$C$3:$J$3)-L8),0)+L8,"") | N8: =IFERROR(MATCH("OK",OFFSET(Récap!$C8,0,M8,1,COUNTA(Récap!$C$3:$J$3)-M8),0)+M8,"") | O8: =IFERROR(MATCH("OK",OFFSET(Récap!$C8,0,N8,1,COUNTA(Récap!$C$3:$J$3)-N8),0)+N8,"") | P8: =IFERROR(MATCH("OK",OFFSET(Récap!$C8,0,O8,1,COUNTA(Récap!$C$3:$J$3)-O8),0)+O8,"") | Q8: =IFERROR(MATCH("OK",OFFSET(Récap!$C8,0,P8,1,COUNTA(Récap!$C$3:$J$3)-P8),0)+P8,"") | R8: =IFERROR(MATCH("OK",OFFSET(Récap!$C8,0,Q8,1,COUNTA(Récap!$C$3:$J$3)-Q8),0)+Q8,"") | ... Z8: =IFERROR(MATCH("OK",OFFSET(Récap!$C8,0,Y8,1,COUNTA(Récap!$C$3:$J$3)-Y8),0)+Y8,"")
K9: =IFERROR(MATCH("OK",OFFSET(Récap!$C9,0,J9,1,COUNTA(Récap!$C$3:$J$3)-J9),0)+J9,"") -> 1 | L9: =IFERROR(MATCH("OK",OFFSET(Récap!$C9,0,K9,1,COUNTA(Récap!$C$3:$J$3)-K9),0)+K9,"") -> 2 | M9: =IFERROR(MATCH("OK",OFFSET(Récap!$C9,0,L9,1,COUNTA(Récap!$C$3:$J$3)-L9),0)+L9,"") -> 3 | N9: =IFERROR(MATCH("OK",OFFSET(Récap!$C9,0,M9,1,COUNTA(Récap!$C$3:$J$3)-M9),0)+M9,"") | O9: =IFERROR(MATCH("OK",OFFSET(Récap!$C9,0,N9,1,COUNTA(Récap!$C$3:$J$3)-N9),0)+N9,"") | P9: =IFERROR(MATCH("OK",OFFSET(Récap!$C9,0,O9,1,COUNTA(Récap!$C$3:$J$3)-O9),0)+O9,"") | Q9: =IFERROR(MATCH("OK",OFFSET(Récap!$C9,0,P9,1,COUNTA(Récap!$C$3:$J$3)-P9),0)+P9,"") | R9: =IFERROR(MATCH("OK",OFFSET(Récap!$C9,0,Q9,1,COUNTA(Récap!$C$3:$J$3)-Q9),0)+Q9,"") | ... Z9: =IFERROR(MATCH("OK",OFFSET(Récap!$C9,0,Y9,1,COUNTA(Récap!$C$3:$J$3)-Y9),0)+Y9,"")
K10: =IFERROR(MATCH("OK",OFFSET(Récap!$C10,0,J10,1,COUNTA(Récap!$C$3:$J$3)-J10),0)+J10,"") | L10: =IFERROR(MATCH("OK",OFFSET(Récap!$C10,0,K10,1,COUNTA(Récap!$C$3:$J$3)-K10),0)+K10,"") | M10: =IFERROR(MATCH("OK",OFFSET(Récap!$C10,0,L10,1,COUNTA(Récap!$C$3:$J$3)-L10),0)+L10,"") | N10: =IFERROR(MATCH("OK",OFFSET(Récap!$C10,0,M10,1,COUNTA(Récap!$C$3:$J$3)-M10),0)+M10,"") | O10: =IFERROR(MATCH("OK",OFFSET(Récap!$C10,0,N10,1,COUNTA(Récap!$C$3:$J$3)-N10),0)+N10,"") | P10: =IFERROR(MATCH("OK",OFFSET(Récap!$C10,0,O10,1,COUNTA(Récap!$C$3:$J$3)-O10),0)+O10,"") | Q10: =IFERROR(MATCH("OK",OFFSET(Récap!$C10,0,P10,1,COUNTA(Récap!$C$3:$J$3)-P10),0)+P10,"") | R10: =IFERROR(MATCH("OK",OFFSET(Récap!$C10,0,Q10,1,COUNTA(Récap!$C$3:$J$3)-Q10),0)+Q10,"") | ... Z10: =IFERROR(MATCH("OK",OFFSET(Récap!$C10,0,Y10,1,COUNTA(Récap!$C$3:$J$3)-Y10),0)+Y10,"")
K11: =IFERROR(MATCH("OK",OFFSET(Récap!$C11,0,J11,1,COUNTA(Récap!$C$3:$J$3)-J11),0)+J11,"") -> 1 | L11: =IFERROR(MATCH("OK",OFFSET(Récap!$C11,0,K11,1,COUNTA(Récap!$C$3:$J$3)-K11),0)+K11,"") | M11: =IFERROR(MATCH("OK",OFFSET(Récap!$C11,0,L11,1,COUNTA(Récap!$C$3:$J$3)-L11),0)+L11,"") | N11: =IFERROR(MATCH("OK",OFFSET(Récap!$C11,0,M11,1,COUNTA(Récap!$C$3:$J$3)-M11),0)+M11,"") | O11: =IFERROR(MATCH("OK",OFFSET(Récap!$C11,0,N11,1,COUNTA(Récap!$C$3:$J$3)-N11),0)+N11,"") | P11: =IFERROR(MATCH("OK",OFFSET(Récap!$C11,0,O11,1,COUNTA(Récap!$C$3:$J$3)-O11),0)+O11,"") | Q11: =IFERROR(MATCH("OK",OFFSET(Récap!$C11,0,P11,1,COUNTA(Récap!$C$3:$J$3)-P11),0)+P11,"") | R11: =IFERROR(MATCH("OK",OFFSET(Récap!$C11,0,Q11,1,COUNTA(Récap!$C$3:$J$3)-Q11),0)+Q11,"") | ... Z11: =IFERROR(MATCH("OK",OFFSET(Récap!$C11,0,Y11,1,COUNTA(Récap!$C$3:$J$3)-Y11),0)+Y11,"")
K12: =IFERROR(MATCH("OK",OFFSET(Récap!$C12,0,J12,1,COUNTA(Récap!$C$3:$J$3)-J12),0)+J12,"") -> 3 | L12: =IFERROR(MATCH("OK",OFFSET(Récap!$C12,0,K12,1,COUNTA(Récap!$C$3:$J$3)-K12),0)+K12,"") | M12: =IFERROR(MATCH("OK",OFFSET(Récap!$C12,0,L12,1,COUNTA(Récap!$C$3:$J$3)-L12),0)+L12,"") | N12: =IFERROR(MATCH("OK",OFFSET(Récap!$C12,0,M12,1,COUNTA(Récap!$C$3:$J$3)-M12),0)+M12,"") | O12: =IFERROR(MATCH("OK",OFFSET(Récap!$C12,0,N12,1,COUNTA(Récap!$C$3:$J$3)-N12),0)+N12,"") | P12: =IFERROR(MATCH("OK",OFFSET(Récap!$C12,0,O12,1,COUNTA(Récap!$C$3:$J$3)-O12),0)+O12,"") | Q12: =IFERROR(MATCH("OK",OFFSET(Récap!$C12,0,P12,1,COUNTA(Récap!$C$3:$J$3)-P12),0)+P12,"") | R12: =IFERROR(MATCH("OK",OFFSET(Récap!$C12,0,Q12,1,COUNTA(Récap!$C$3:$J$3)-Q12),0)+Q12,"") | ... Z12: =IFERROR(MATCH("OK",OFFSET(Récap!$C12,0,Y12,1,COUNTA(Récap!$C$3:$J$3)-Y12),0)+Y12,"")
K13: =IFERROR(MATCH("OK",OFFSET(Récap!$C13,0,J13,1,COUNTA(Récap!$C$3:$J$3)-J13),0)+J13,"") | L13: =IFERROR(MATCH("OK",OFFSET(Récap!$C13,0,K13,1,COUNTA(Récap!$C$3:$J$3)-K13),0)+K13,"") | M13: =IFERROR(MATCH("OK",OFFSET(Récap!$C13,0,L13,1,COUNTA(Récap!$C$3:$J$3)-L13),0)+L13,"") | N13: =IFERROR(MATCH("OK",OFFSET(Récap!$C13,0,M13,1,COUNTA(Récap!$C$3:$J$3)-M13),0)+M13,"") | O13: =IFERROR(MATCH("OK",OFFSET(Récap!$C13,0,N13,1,COUNTA(Récap!$C$3:$J$3)-N13),0)+N13,"") | P13: =IFERROR(MATCH("OK",OFFSET(Récap!$C13,0,O13,1,COUNTA(Récap!$C$3:$J$3)-O13),0)+O13,"") | Q13: =IFERROR(MATCH("OK",OFFSET(Récap!$C13,0,P13,1,COUNTA(Récap!$C$3:$J$3)-P13),0)+P13,"") | R13: =IFERROR(MATCH("OK",OFFSET(Récap!$C13,0,Q13,1,COUNTA(Récap!$C$3:$J$3)-Q13),0)+Q13,"") | ... Z13: =IFERROR(MATCH("OK",OFFSET(Récap!$C13,0,Y13,1,COUNTA(Récap!$C$3:$J$3)-Y13),0)+Y13,"")
K14: =IFERROR(MATCH("OK",OFFSET(Récap!$C14,0,J14,1,COUNTA(Récap!$C$3:$J$3)-J14),0)+J14,"") | L14: =IFERROR(MATCH("OK",OFFSET(Récap!$C14,0,K14,1,COUNTA(Récap!$C$3:$J$3)-K14),0)+K14,"") | M14: =IFERROR(MATCH("OK",OFFSET(Récap!$C14,0,L14,1,COUNTA(Récap!$C$3:$J$3)-L14),0)+L14,"") | N14: =IFERROR(MATCH("OK",OFFSET(Récap!$C14,0,M14,1,COUNTA(Récap!$C$3:$J$3)-M14),0)+M14,"") | O14: =IFERROR(MATCH("OK",OFFSET(Récap!$C14,0,N14,1,COUNTA(Récap!$C$3:$J$3)-N14),0)+N14,"") | P14: =IFERROR(MATCH("OK",OFFSET(Récap!$C14,0,O14,1,COUNTA(Récap!$C$3:$J$3)-O14),0)+O14,"") | Q14: =IFERROR(MATCH("OK",OFFSET(Récap!$C14,0,P14,1,COUNTA(Récap!$C$3:$J$3)-P14),0)+P14,"") | R14: =IFERROR(MATCH("OK",OFFSET(Récap!$C14,0,Q14,1,COUNTA(Récap!$C$3:$J$3)-Q14),0)+Q14,"") | ... Z14: =IFERROR(MATCH("OK",OFFSET(Récap!$C14,0,Y14,1,COUNTA(Récap!$C$3:$J$3)-Y14),0)+Y14,"")
K15: =IFERROR(MATCH("OK",OFFSET(Récap!$C15,0,J15,1,COUNTA(Récap!$C$3:$J$3)-J15),0)+J15,"") | L15: =IFERROR(MATCH("OK",OFFSET(Récap!$C15,0,K15,1,COUNTA(Récap!$C$3:$J$3)-K15),0)+K15,"") | M15: =IFERROR(MATCH("OK",OFFSET(Récap!$C15,0,L15,1,COUNTA(Récap!$C$3:$J$3)-L15),0)+L15,"") | N15: =IFERROR(MATCH("OK",OFFSET(Récap!$C15,0,M15,1,COUNTA(Récap!$C$3:$J$3)-M15),0)+M15,"") | O15: =IFERROR(MATCH("OK",OFFSET(Récap!$C15,0,N15,1,COUNTA(Récap!$C$3:$J$3)-N15),0)+N15,"") | P15: =IFERROR(MATCH("OK",OFFSET(Récap!$C15,0,O15,1,COUNTA(Récap!$C$3:$J$3)-O15),0)+O15,"") | Q15: =IFERROR(MATCH("OK",OFFSET(Récap!$C15,0,P15,1,COUNTA(Récap!$C$3:$J$3)-P15),0)+P15,"") | R15: =IFERROR(MATCH("OK",OFFSET(Récap!$C15,0,Q15,1,COUNTA(Récap!$C$3:$J$3)-Q15),0)+Q15,"") | ... Z15: =IFERROR(MATCH("OK",OFFSET(Récap!$C15,0,Y15,1,COUNTA(Récap!$C$3:$J$3)-Y15),0)+Y15,"")
... K23: =IFERROR(MATCH("OK",OFFSET(Récap!$C23,0,J23,1,COUNTA(Récap!$C$3:$J$3)-J23),0)+J23,"") | L23: =IFERROR(MATCH("OK",OFFSET(Récap!$C23,0,K23,1,COUNTA(Récap!$C$3:$J$3)-K23),0)+K23,"") | M23: =IFERROR(MATCH("OK",OFFSET(Récap!$C23,0,L23,1,COUNTA(Récap!$C$3:$J$3)-L23),0)+L23,"") | N23: =IFERROR(MATCH("OK",OFFSET(Récap!$C23,0,M23,1,COUNTA(Récap!$C$3:$J$3)-M23),0)+M23,"") | O23: =IFERROR(MATCH("OK",OFFSET(Récap!$C23,0,N23,1,COUNTA(Récap!$C$3:$J$3)-N23),0)+N23,"") | P23: =IFERROR(MATCH("OK",OFFSET(Récap!$C23,0,O23,1,COUNTA(Récap!$C$3:$J$3)-O23),0)+O23,"") | Q23: =IFERROR(MATCH("OK",OFFSET(Récap!$C23,0,P23,1,COUNTA(Récap!$C$3:$J$3)-P23),0)+P23,"") | R23: =IFERROR(MATCH("OK",OFFSET(Récap!$C23,0,Q23,1,COUNTA(Récap!$C$3:$J$3)-Q23),0)+Q23,"") | ... Z23: =IFERROR(MATCH("OK",OFFSET(Récap!$C23,0,Y23,1,COUNTA(Récap!$C$3:$J$3)-Y23),0)+Y23,"")
